BEGIN:VCALENDAR
VERSION:2.0
PRODID:https://www.industryarena.com
METHOD:PUBLISH
BEGIN:VEVENT
UID:CNCARENAEVENT23604

ORGANIZER:RÖHM GmbH
LOCATION:Jena
SUMMARY:W3+ FAIR JENA 2026
DESCRIPTION:The cross-sector concept makes the W3+ Fair so unique: Researchers, developers, and producers from the four key technologies network with each other and meet top international experts from important application areas such as MedTech, Life Sciences, Automotive, Aerospace, Consumer Electronics, and Tools & Machinery. Innovative strength meets concrete needs. With success: The W3+ Fair is the setting for shared visions and new partnerships for the technological requirements of tomorrow.
CLASS:PUBLIC
DTSTART:20260923
DTEND:20260924
END:VEVENT
END:VCALENDAR