BEGIN:VCALENDAR
VERSION:2.0
PRODID:https://www.industryarena.com
METHOD:PUBLISH
BEGIN:VEVENT
UID:CNCARENAEVENT23600

ORGANIZER:KAPP Werkzeugmaschinen GmbH
LOCATION:Shanghai
SUMMARY:CCMT 2026
DESCRIPTION:China CNC Machine Tool Fair 2026
CLASS:PUBLIC
DTSTART:20260421
DTEND:20260425
END:VEVENT
END:VCALENDAR