BEGIN:VCALENDAR
VERSION:2.0
PRODID:https://www.industryarena.com
METHOD:PUBLISH
BEGIN:VEVENT
UID:CNCARENAEVENT23599

ORGANIZER:KAPP Werkzeugmaschinen GmbH
LOCATION:Milano
SUMMARY:BI-MU 2026
DESCRIPTION:Metal forming and metal cutting machines, robots, automation and auxiliary technologies.
CLASS:PUBLIC
DTSTART:20261013
DTEND:20261016
END:VEVENT
END:VCALENDAR