BEGIN:VCALENDAR
VERSION:2.0
PRODID:https://www.industryarena.com
METHOD:PUBLISH
BEGIN:VEVENT
UID:CNCARENAEVENT23596

ORGANIZER:Andreas Maier GmbH & Co. KG (AMF)
LOCATION:Jönköping
SUMMARY:Elmia Machine Tools 2026
DESCRIPTION:Descubra el mundo de los sistemas de sujeción y equipamiento y conozca productos especiales de la técnica de sujeción de AMF, como p.ej. los sistemas de sujeción de punto cero, sistemas de sujeción hidráulicos y magnéticos, sistemas de sujeción por vacío, etc.
CLASS:PUBLIC
DTSTART:20260519
DTEND:20260522
END:VEVENT
END:VCALENDAR