BEGIN:VCALENDAR
VERSION:2.0
PRODID:https://www.industryarena.com
METHOD:PUBLISH
BEGIN:VEVENT
UID:CNCARENAEVENT23582

ORGANIZER:TDM Systems GmbH
LOCATION:Gosheim
SUMMARY:TDM at the HERMLE Open House 2026
DESCRIPTION:Visit TDM Systems at the HERMLE Open House 2026!
CLASS:PUBLIC
DTSTART:20260421
DTEND:20260424
END:VEVENT
END:VCALENDAR