BEGIN:VCALENDAR
VERSION:2.0
PRODID:https://www.industryarena.com
METHOD:PUBLISH
BEGIN:VEVENT
UID:CNCARENAEVENT23577

ORGANIZER:TRUMPF GmbH + Co. KG
LOCATION:Ditzingen
SUMMARY:TRUMPF in-house exhibition – INTECH 2026
DESCRIPTION:Welcome to TRUMPF at INTECH 2026! Experience how the future takes shape with innovative technologies, smart services and expert guidance. Meet the people advancing innovation, hear real success stories, and explore the TRUMPF solutions world. The campus tour “Inside TRUMPF”, the exclusive Smart Factory tour and a panel discussion on connected robotics offer impressive insights while also providing an opportunity to exchange ideas with industry peers and take away valuable inspiration.
CLASS:PUBLIC
DTSTART:20260421
DTEND:20260424
END:VEVENT
END:VCALENDAR