BEGIN:VCALENDAR
VERSION:2.0
PRODID:https://www.industryarena.com
METHOD:PUBLISH
BEGIN:VEVENT
UID:CNCARENAEVENT23488

ORGANIZER:LANG Technik GmbH
LOCATION:Wels
SUMMARY:intertool 2026
DESCRIPTION:Socio comercial: knapptools GmbH & Co. KG
CLASS:PUBLIC
DTSTART:20260421
DTEND:20260424
END:VEVENT
END:VCALENDAR