BEGIN:VCALENDAR
VERSION:2.0
PRODID:https://www.industryarena.com
METHOD:PUBLISH
BEGIN:VEVENT
UID:CNCARENAEVENT23487

ORGANIZER:LANG Technik GmbH
LOCATION:Meppen
SUMMARY:feria interna
DESCRIPTION:Live demonstrations, factory tours, specialist lectures.
CLASS:PUBLIC
DTSTART:20260422
DTEND:20260423
END:VEVENT
END:VCALENDAR