BEGIN:VCALENDAR
VERSION:2.0
PRODID:https://www.industryarena.com
METHOD:PUBLISH
BEGIN:VEVENT
UID:CNCARENAEVENT20863

ORGANIZER:Blum-Novotest GmbH Fertigungs-Messtechnik
LOCATION:Villepinte
SUMMARY:Global Industrie
DESCRIPTION:
CLASS:PUBLIC
DTSTART:20240325
DTEND:20240328
END:VEVENT
END:VCALENDAR