BEGIN:VCALENDAR
VERSION:2.0
PRODID:https://www.industryarena.com
METHOD:PUBLISH
BEGIN:VEVENT
UID:CNCARENAEVENT20861

ORGANIZER:Blum-Novotest GmbH Fertigungs-Messtechnik
LOCATION:Pordenone
SUMMARY:SAMUEXPO 
DESCRIPTION:SAMUEXPO DIE INTERNATIONALE ZWEIJÄHRLICHE VERANSTALTUNG, DIE VIER AUSSTELLUNGEN UMFASST\nEine nationale und internationale Referenzveranstaltung, dank der Anwesenheit von Unternehmen aus der ganzen Welt.\nEine wichtige Gelegenheit, um neue Geschäftsbeziehungen zu knüpfen, sich zu vernetzen und sich über die Neuigkeiten in den führenden Sektoren zu informieren.\nEine Gelegenheit zur Begegnung zwischen den Herstellern von Maschinen und Technologien für die verarbeitende Industrie und den Endkunden (Händlern und Käufern)
CLASS:PUBLIC
DTSTART:20240201
DTEND:20240203
END:VEVENT
END:VCALENDAR