BEGIN:VCALENDAR
VERSION:2.0
PRODID:https://www.industryarena.com
METHOD:PUBLISH
BEGIN:VEVENT
UID:CNCARENAEVENT20860

ORGANIZER:ALZMETALL GmbH & Co. KG
LOCATION:Chicago, Illinois
SUMMARY:IMTS 2026
DESCRIPTION:International Manufacturing Technology Show
CLASS:PUBLIC
DTSTART:20260914
DTEND:20260919
END:VEVENT
END:VCALENDAR