BEGIN:VCALENDAR
VERSION:2.0
PRODID:https://www.industryarena.com
METHOD:PUBLISH
BEGIN:VEVENT
UID:CNCARENAEVENT20859

ORGANIZER:ALZMETALL GmbH & Co. KG
LOCATION:Stuttgart
SUMMARY:AMB 2024
DESCRIPTION:International exhibition for metal working
CLASS:PUBLIC
DTSTART:20240910
DTEND:20240914
END:VEVENT
END:VCALENDAR